BEGIN:VCALENDAR
VERSION:2.0
PRODID:-//StreamRadar//Match Calendar//EN
CALSCALE:GREGORIAN
METHOD:PUBLISH
X-WR-CALNAME:Ulinzi Stars vs Mathare United
X-WR-TIMEZONE:America/New_York
BEGIN:VEVENT
UID:match-5618132@streamradar.soccer
SUMMARY:Ulinzi Stars vs Mathare United
DTSTAMP:20260421T122606Z
DTSTART;TZID=America/New_York:20260523T080000
DTEND;TZID=America/New_York:20260523T100000
DESCRIPTION:Где смотреть Улинзи Старс – Матар 
 Юнайтед в турнире Kenyan Premier League. Прямая тра
 нсляция и телепрограмма.\nhttps://streamradar.soccer/r
 u/match/5618132/ulinzi-stars-vs-mathare-united/
URL;VALUE=URI:https://streamradar.soccer/ru/match/5618132/ulinzi-stars-vs-m
 athare-united/
STATUS:CONFIRMED
END:VEVENT
END:VCALENDAR
