BEGIN:VCALENDAR
VERSION:2.0
PRODID:-//StreamRadar//Match Calendar//EN
CALSCALE:GREGORIAN
METHOD:PUBLISH
X-WR-CALNAME:KCB vs Posta Rangers
X-WR-TIMEZONE:America/New_York
BEGIN:VEVENT
UID:match-5618128@streamradar.soccer
SUMMARY:KCB vs Posta Rangers
DTSTAMP:20260421T104120Z
DTSTART;TZID=America/New_York:20260523T080000
DTEND;TZID=America/New_York:20260523T100000
DESCRIPTION:Где смотреть KCB – Поста Рейнджерз 
  турнире Kenyan Premier League. Прямая трансляция 
  телепрограмма.\nhttps://streamradar.soccer/ru/match/5618128/
 kcb-vs-posta-rangers/
URL;VALUE=URI:https://streamradar.soccer/ru/match/5618128/kcb-vs-posta-rang
 ers/
STATUS:CONFIRMED
END:VEVENT
END:VCALENDAR
