BEGIN:VCALENDAR
VERSION:2.0
PRODID:-//StreamRadar//Match Calendar//EN
CALSCALE:GREGORIAN
METHOD:PUBLISH
X-WR-CALNAME:Lillestrøm vs Kristiansund
X-WR-TIMEZONE:America/New_York
BEGIN:VEVENT
UID:match-5618123@streamradar.soccer
SUMMARY:Lillestrøm vs Kristiansund
DTSTAMP:20260421T104310Z
DTSTART;TZID=America/New_York:20260520T130000
DTEND;TZID=America/New_York:20260520T150000
DESCRIPTION:Где смотреть Лиллестрем – Кристиа
 нсунн в турнире Норвегия - Элитесериен. П
 ямая трансляция и телепрограмма.\nhttps://stre
 amradar.soccer/ru/match/5618123/lillestrom-vs-kristiansund/
URL;VALUE=URI:https://streamradar.soccer/ru/match/5618123/lillestrom-vs-kri
 stiansund/
STATUS:CONFIRMED
END:VEVENT
END:VCALENDAR
