BEGIN:VCALENDAR
VERSION:2.0
PRODID:-//StreamRadar//Match Calendar//EN
CALSCALE:GREGORIAN
METHOD:PUBLISH
X-WR-CALNAME:Crumlin United vs Salthill Devon
X-WR-TIMEZONE:America/New_York
BEGIN:VEVENT
UID:match-5618120@streamradar.soccer
SUMMARY:Crumlin United vs Salthill Devon
DTSTAMP:20260421T120425Z
DTSTART;TZID=America/New_York:20260523T120000
DTEND;TZID=America/New_York:20260523T140000
DESCRIPTION:Где смотреть Crumlin United – Salthill Devon в т
 урнире Ирландия - Кубок Ирландии. Прямая 
 рансляция и телепрограмма.\nhttps://streamradar.soc
 cer/ru/match/5618120/crumlin-united-vs-salthill-devon/
URL;VALUE=URI:https://streamradar.soccer/ru/match/5618120/crumlin-united-vs
 -salthill-devon/
STATUS:CONFIRMED
END:VEVENT
END:VCALENDAR
