BEGIN:VCALENDAR
VERSION:2.0
PRODID:-//StreamRadar//Match Calendar//EN
CALSCALE:GREGORIAN
METHOD:PUBLISH
X-WR-CALNAME:Radnički Niš vs Spartak Subotica
X-WR-TIMEZONE:America/New_York
BEGIN:VEVENT
UID:match-5618113@streamradar.soccer
SUMMARY:Radnički Niš vs Spartak Subotica
DTSTAMP:20260421T121225Z
DTSTART;TZID=America/New_York:20260523T130000
DTEND;TZID=America/New_York:20260523T150000
DESCRIPTION:Где смотреть Раднички (Ниш) – Спар
 ак (Суботица) в турнире Сербия - Суперлиг
  Сербии. Прямая трансляция и телепрограм
 ма.\nhttps://streamradar.soccer/ru/match/5618113/radnicki-nis-vs-spartak-
 subotica/
URL;VALUE=URI:https://streamradar.soccer/ru/match/5618113/radnicki-nis-vs-s
 partak-subotica/
STATUS:CONFIRMED
END:VEVENT
END:VCALENDAR
