BEGIN:VCALENDAR
VERSION:2.0
PRODID:-//StreamRadar//Match Calendar//EN
CALSCALE:GREGORIAN
METHOD:PUBLISH
X-WR-CALNAME:Radnički Kragujevac vs Javor Ivanjica
X-WR-TIMEZONE:America/New_York
BEGIN:VEVENT
UID:match-5618112@streamradar.soccer
SUMMARY:Radnički Kragujevac vs Javor Ivanjica
DTSTAMP:20260421T121224Z
DTSTART;TZID=America/New_York:20260523T130000
DTEND;TZID=America/New_York:20260523T150000
DESCRIPTION:Где смотреть Radnički Kragujevac – Явор Ив
 ньица в турнире Сербия - Суперлига Серби
 . Прямая трансляция и телепрограмма.\nhttps:
 //streamradar.soccer/ru/match/5618112/radnicki-kragujevac-vs-javor-ivanjica
 /
URL;VALUE=URI:https://streamradar.soccer/ru/match/5618112/radnicki-kragujev
 ac-vs-javor-ivanjica/
STATUS:CONFIRMED
END:VEVENT
END:VCALENDAR
