BEGIN:VCALENDAR
VERSION:2.0
PRODID:-//StreamRadar//Match Calendar//EN
CALSCALE:GREGORIAN
METHOD:PUBLISH
X-WR-CALNAME:Rosenborg vs Manchester United
X-WR-TIMEZONE:America/New_York
BEGIN:VEVENT
UID:match-5618098@streamradar.soccer
SUMMARY:Rosenborg vs Manchester United
DTSTAMP:20260421T233054Z
DTSTART;TZID=America/New_York:20260724T120000
DTEND;TZID=America/New_York:20260724T140000
LOCATION:Lerkendal Stadion
DESCRIPTION:Где смотреть Русенборг – Манчесте
 р Юнайтед в турнире Товарищеский матч ме
 ду клубами. Прямая трансляция и телепрог
 рамма.\nhttps://streamradar.soccer/ru/match/5618098/rosenborg-vs-manch
 ester-united/
URL;VALUE=URI:https://streamradar.soccer/ru/match/5618098/rosenborg-vs-manc
 hester-united/
STATUS:CONFIRMED
END:VEVENT
END:VCALENDAR
