BEGIN:VCALENDAR
VERSION:2.0
PRODID:-//StreamRadar//Match Calendar//EN
CALSCALE:GREGORIAN
METHOD:PUBLISH
X-WR-CALNAME:Manchester United vs Wrexham
X-WR-TIMEZONE:America/New_York
BEGIN:VEVENT
UID:match-5618097@streamradar.soccer
SUMMARY:Manchester United vs Wrexham
DTSTAMP:20260421T135917Z
DTSTART;TZID=America/New_York:20260718T110000
DTEND;TZID=America/New_York:20260718T130000
LOCATION:Helsinki Olympic Stadium
DESCRIPTION:Где смотреть Манчестер Юнайтед – 
 ексем в турнире Товарищеский матч между 
 клубами. Прямая трансляция и телепрограм
 ма.\nhttps://streamradar.soccer/ru/match/5618097/manchester-united-vs-wre
 xham/
URL;VALUE=URI:https://streamradar.soccer/ru/match/5618097/manchester-united
 -vs-wrexham/
STATUS:CONFIRMED
END:VEVENT
END:VCALENDAR
