BEGIN:VCALENDAR
VERSION:2.0
PRODID:-//StreamRadar//Match Calendar//EN
CALSCALE:GREGORIAN
METHOD:PUBLISH
X-WR-CALNAME:FUS Rabat vs CODM Meknès
X-WR-TIMEZONE:America/New_York
BEGIN:VEVENT
UID:match-5618087@streamradar.soccer
SUMMARY:FUS Rabat vs CODM Meknès
DTSTAMP:20260421T120359Z
DTSTART;TZID=America/New_York:20260429T110000
DTEND;TZID=America/New_York:20260429T130000
LOCATION:Stade Prince Moulay Hassan
DESCRIPTION:Где смотреть ФУС – CODM Meknès в турнир
 е Марокко - Botola Pro. Прямая трансляция и тел
 епрограмма.\nhttps://streamradar.soccer/ru/match/5618087/fus-raba
 t-vs-codm-meknes/
URL;VALUE=URI:https://streamradar.soccer/ru/match/5618087/fus-rabat-vs-codm
 -meknes/
STATUS:CONFIRMED
END:VEVENT
END:VCALENDAR
