BEGIN:VCALENDAR
VERSION:2.0
PRODID:-//StreamRadar//Match Calendar//EN
CALSCALE:GREGORIAN
METHOD:PUBLISH
X-WR-CALNAME:Sportivo Italiano vs San Martín Burzaco
X-WR-TIMEZONE:America/New_York
BEGIN:VEVENT
UID:match-5618080@streamradar.soccer
SUMMARY:Sportivo Italiano vs San Martín Burzaco
DTSTAMP:20260421T102119Z
DTSTART;TZID=America/New_York:20260527T160000
DTEND;TZID=America/New_York:20260527T180000
LOCATION:Republica de Italia Stadium
DESCRIPTION:Где смотреть Спортиво Итальяно – 
 ан-Мартин Бурсако в турнире Аргентина - Pr
 imera B Metropolitana. Прямая трансляция и телепро
 рамма.\nhttps://streamradar.soccer/ru/match/5618080/sportivo-italiano
 -vs-san-martin-burzaco/
URL;VALUE=URI:https://streamradar.soccer/ru/match/5618080/sportivo-italiano
 -vs-san-martin-burzaco/
STATUS:CONFIRMED
END:VEVENT
END:VCALENDAR
