BEGIN:VCALENDAR
VERSION:2.0
PRODID:-//StreamRadar//Match Calendar//EN
CALSCALE:GREGORIAN
METHOD:PUBLISH
X-WR-CALNAME:Argentino Quilmes vs Excursionistas
X-WR-TIMEZONE:America/New_York
BEGIN:VEVENT
UID:match-5618070@streamradar.soccer
SUMMARY:Argentino Quilmes vs Excursionistas
DTSTAMP:20260421T113330Z
DTSTART;TZID=America/New_York:20260527T160000
DTEND;TZID=America/New_York:20260527T180000
LOCATION:Barranca Quilmena stadium
DESCRIPTION:Где смотреть Аргентино Кильмес – 
 кскурсионистас в турнире Аргентина - Primer
 a B Metropolitana. Прямая трансляция и телепрогр
 мма.\nhttps://streamradar.soccer/ru/match/5618070/argentino-quilmes-vs-
 excursionistas/
URL;VALUE=URI:https://streamradar.soccer/ru/match/5618070/argentino-quilmes
 -vs-excursionistas/
STATUS:CONFIRMED
END:VEVENT
END:VCALENDAR
