BEGIN:VCALENDAR
VERSION:2.0
PRODID:-//StreamRadar//Match Calendar//EN
CALSCALE:GREGORIAN
METHOD:PUBLISH
X-WR-CALNAME:Slavia Sofia vs Montana
X-WR-TIMEZONE:America/New_York
BEGIN:VEVENT
UID:match-5618064@streamradar.soccer
SUMMARY:Slavia Sofia vs Montana
DTSTAMP:20260421T102034Z
DTSTART;TZID=America/New_York:20260522T110000
DTEND;TZID=America/New_York:20260522T130000
LOCATION:Stadion Aleksandar Shalamanov
DESCRIPTION:Где смотреть Славия (София) – Монт
 на в турнире Болгария - Первая Лига. Прям
 я трансляция и телепрограмма.\nhttps://streamrada
 r.soccer/ru/match/5618064/slavia-sofia-vs-montana/
URL;VALUE=URI:https://streamradar.soccer/ru/match/5618064/slavia-sofia-vs-m
 ontana/
STATUS:CONFIRMED
END:VEVENT
END:VCALENDAR
