BEGIN:VCALENDAR
VERSION:2.0
PRODID:-//StreamRadar//Match Calendar//EN
CALSCALE:GREGORIAN
METHOD:PUBLISH
X-WR-CALNAME:Septemvri Sofia vs Dobrudzha 1919
X-WR-TIMEZONE:America/New_York
BEGIN:VEVENT
UID:match-5618063@streamradar.soccer
SUMMARY:Septemvri Sofia vs Dobrudzha 1919
DTSTAMP:20260421T103231Z
DTSTART;TZID=America/New_York:20260522T110000
DTEND;TZID=America/New_York:20260522T130000
DESCRIPTION:Где смотреть Septemvri Sofia – Dobrudzha 1919 в 
 урнире Болгария - Первая Лига. Прямая тра
 нсляция и телепрограмма.\nhttps://streamradar.soccer/r
 u/match/5618063/septemvri-sofia-vs-dobrudzha-1919/
URL;VALUE=URI:https://streamradar.soccer/ru/match/5618063/septemvri-sofia-v
 s-dobrudzha-1919/
STATUS:CONFIRMED
END:VEVENT
END:VCALENDAR
