BEGIN:VCALENDAR
VERSION:2.0
PRODID:-//StreamRadar//Match Calendar//EN
CALSCALE:GREGORIAN
METHOD:PUBLISH
X-WR-CALNAME:Ferro Carril Oeste vs Deportivo Morón
X-WR-TIMEZONE:America/New_York
BEGIN:VEVENT
UID:match-5618046@streamradar.soccer
SUMMARY:Ferro Carril Oeste vs Deportivo Morón
DTSTAMP:20260421T121229Z
DTSTART;TZID=America/New_York:20260620T160000
DTEND;TZID=America/New_York:20260620T180000
LOCATION:Estadio Arquitecto Ricardo Etcheverry
DESCRIPTION:Где смотреть Феррокаррил Оэсте – 
 епортиво Морон в турнире Аргентина - При
 ера Насьональ. Прямая трансляция и телеп
 рограмма.\nhttps://streamradar.soccer/ru/match/5618046/ferro-carril
 -oeste-vs-deportivo-moron/
URL;VALUE=URI:https://streamradar.soccer/ru/match/5618046/ferro-carril-oest
 e-vs-deportivo-moron/
STATUS:CONFIRMED
END:VEVENT
END:VCALENDAR
