BEGIN:VCALENDAR
VERSION:2.0
PRODID:-//StreamRadar//Match Calendar//EN
CALSCALE:GREGORIAN
METHOD:PUBLISH
X-WR-CALNAME:Colegiales vs Quilmes
X-WR-TIMEZONE:America/New_York
BEGIN:VEVENT
UID:match-5618042@streamradar.soccer
SUMMARY:Colegiales vs Quilmes
DTSTAMP:20260421T121349Z
DTSTART;TZID=America/New_York:20260620T160000
DTEND;TZID=America/New_York:20260620T180000
LOCATION:Estadio de Colegiales
DESCRIPTION:Где смотреть Колехиалес – Кильмес
  в турнире Аргентина - Примера Насьональ. 
 Прямая трансляция и телепрограмма.\nhttps://s
 treamradar.soccer/ru/match/5618042/colegiales-vs-quilmes/
URL;VALUE=URI:https://streamradar.soccer/ru/match/5618042/colegiales-vs-qui
 lmes/
STATUS:CONFIRMED
END:VEVENT
END:VCALENDAR
