BEGIN:VCALENDAR
VERSION:2.0
PRODID:-//StreamRadar//Match Calendar//EN
CALSCALE:GREGORIAN
METHOD:PUBLISH
X-WR-CALNAME:Club Atlético Güemes vs Gimnasia Jujuy
X-WR-TIMEZONE:America/New_York
BEGIN:VEVENT
UID:match-5618041@streamradar.soccer
SUMMARY:Club Atlético Güemes vs Gimnasia Jujuy
DTSTAMP:20260421T120606Z
DTSTART;TZID=America/New_York:20260620T160000
DTEND;TZID=America/New_York:20260620T180000
LOCATION:Estadio Arturo Jiya Miranda
DESCRIPTION:Где смотреть Club Atlético Güemes – Химнас
 ия Хухуй в турнире Аргентина - Примера На
 ьональ. Прямая трансляция и телепрограм
 а.\nhttps://streamradar.soccer/ru/match/5618041/club-atletico-g-emes-vs-g
 imnasia-jujuy/
URL;VALUE=URI:https://streamradar.soccer/ru/match/5618041/club-atletico-g-e
 mes-vs-gimnasia-jujuy/
STATUS:CONFIRMED
END:VEVENT
END:VCALENDAR
