BEGIN:VCALENDAR
VERSION:2.0
PRODID:-//StreamRadar//Match Calendar//EN
CALSCALE:GREGORIAN
METHOD:PUBLISH
X-WR-CALNAME:Chacarita Juniors vs Tristán Suárez
X-WR-TIMEZONE:America/New_York
BEGIN:VEVENT
UID:match-5618038@streamradar.soccer
SUMMARY:Chacarita Juniors vs Tristán Suárez
DTSTAMP:20260421T110345Z
DTSTART;TZID=America/New_York:20260620T160000
DTEND;TZID=America/New_York:20260620T180000
LOCATION:Estadio de Chacarita Juniors
DESCRIPTION:Где смотреть Чакарита Хуниорс – Т
 истан Суарес в турнире Аргентина - Приме
 а Насьональ. Прямая трансляция и телепро
 грамма.\nhttps://streamradar.soccer/ru/match/5618038/chacarita-junior
 s-vs-tristan-suarez/
URL;VALUE=URI:https://streamradar.soccer/ru/match/5618038/chacarita-juniors
 -vs-tristan-suarez/
STATUS:CONFIRMED
END:VEVENT
END:VCALENDAR
