BEGIN:VCALENDAR
VERSION:2.0
PRODID:-//StreamRadar//Match Calendar//EN
CALSCALE:GREGORIAN
METHOD:PUBLISH
X-WR-CALNAME:Acassuso vs San Miguel
X-WR-TIMEZONE:America/New_York
BEGIN:VEVENT
UID:match-5618034@streamradar.soccer
SUMMARY:Acassuso vs San Miguel
DTSTAMP:20260421T104311Z
DTSTART;TZID=America/New_York:20260620T160000
DTEND;TZID=America/New_York:20260620T180000
LOCATION:La Quema Stadium
DESCRIPTION:Где смотреть Акассусо – Сиан-Миге
 ь в турнире Аргентина - Примера Насьонал
 . Прямая трансляция и телепрограмма.\nhttps:
 //streamradar.soccer/ru/match/5618034/acassuso-vs-san-miguel/
URL;VALUE=URI:https://streamradar.soccer/ru/match/5618034/acassuso-vs-san-m
 iguel/
STATUS:CONFIRMED
END:VEVENT
END:VCALENDAR
