BEGIN:VCALENDAR
VERSION:2.0
PRODID:-//StreamRadar//Match Calendar//EN
CALSCALE:GREGORIAN
METHOD:PUBLISH
X-WR-CALNAME:USM Alger vs Zamalek
X-WR-TIMEZONE:America/New_York
BEGIN:VEVENT
UID:match-5618032@streamradar.soccer
SUMMARY:USM Alger vs Zamalek
DTSTAMP:20260421T122611Z
DTSTART;TZID=America/New_York:20260509T120000
DTEND;TZID=America/New_York:20260509T140000
DESCRIPTION:Где смотреть УСМ Алжир – Замалек в
  турнире Кубок Конфедерации КАФ. Прямая т
 рансляция и телепрограмма.\nhttps://streamradar.socc
 er/ru/match/5618032/usm-alger-vs-zamalek/
URL;VALUE=URI:https://streamradar.soccer/ru/match/5618032/usm-alger-vs-zama
 lek/
STATUS:CONFIRMED
END:VEVENT
END:VCALENDAR
