BEGIN:VCALENDAR
VERSION:2.0
PRODID:-//StreamRadar//Match Calendar//EN
CALSCALE:GREGORIAN
METHOD:PUBLISH
X-WR-CALNAME:Universitario de Vinto vs Aurora
X-WR-TIMEZONE:America/New_York
BEGIN:VEVENT
UID:match-5618027@streamradar.soccer
SUMMARY:Universitario de Vinto vs Aurora
DTSTAMP:20260421T104337Z
DTSTART;TZID=America/New_York:20260601T200000
DTEND;TZID=America/New_York:20260601T220000
DESCRIPTION:Где смотреть Universitario De Vinto – Aurora в т
 урнире Боливия - Primera División Боливии. Пряма
  трансляция и телепрограмма.\nhttps://streamradar.
 soccer/ru/match/5618027/universitario-de-vinto-vs-aurora/
URL;VALUE=URI:https://streamradar.soccer/ru/match/5618027/universitario-de-
 vinto-vs-aurora/
STATUS:CONFIRMED
END:VEVENT
END:VCALENDAR
