BEGIN:VCALENDAR
VERSION:2.0
PRODID:-//StreamRadar//Match Calendar//EN
CALSCALE:GREGORIAN
METHOD:PUBLISH
X-WR-CALNAME:Real Potosí vs Nacional Potosí
X-WR-TIMEZONE:America/New_York
BEGIN:VEVENT
UID:match-5618024@streamradar.soccer
SUMMARY:Real Potosí vs Nacional Potosí
DTSTAMP:20260421T155050Z
DTSTART;TZID=America/New_York:20260531T150000
DTEND;TZID=America/New_York:20260531T170000
DESCRIPTION:Где смотреть Реал Потоси – Насьон
 ль Потоси в турнире Боливия - Primera División Б
 ливии. Прямая трансляция и телепрограмм
 .\nhttps://streamradar.soccer/ru/match/5618024/real-potosi-vs-nacional-pot
 osi/
URL;VALUE=URI:https://streamradar.soccer/ru/match/5618024/real-potosi-vs-na
 cional-potosi/
STATUS:CONFIRMED
END:VEVENT
END:VCALENDAR
