BEGIN:VCALENDAR
VERSION:2.0
PRODID:-//StreamRadar//Match Calendar//EN
CALSCALE:GREGORIAN
METHOD:PUBLISH
X-WR-CALNAME:Real Oruro vs Gualberto Villarroel SJ
X-WR-TIMEZONE:America/New_York
BEGIN:VEVENT
UID:match-5618022@streamradar.soccer
SUMMARY:Real Oruro vs Gualberto Villarroel SJ
DTSTAMP:20260421T211148Z
DTSTART;TZID=America/New_York:20260530T171500
DTEND;TZID=America/New_York:20260530T191500
DESCRIPTION:Где смотреть Real Oruro – Gualberto Villarroel SJ 
 в турнире Боливия - Primera División Боливии. Пря
 мая трансляция и телепрограмма.\nhttps://streamr
 adar.soccer/ru/match/5618022/real-oruro-vs-gualberto-villarroel-sj/
URL;VALUE=URI:https://streamradar.soccer/ru/match/5618022/real-oruro-vs-gua
 lberto-villarroel-sj/
STATUS:CONFIRMED
END:VEVENT
END:VCALENDAR
