BEGIN:VCALENDAR
VERSION:2.0
PRODID:-//StreamRadar//Match Calendar//EN
CALSCALE:GREGORIAN
METHOD:PUBLISH
X-WR-CALNAME:Aurora vs Oriente Petrolero
X-WR-TIMEZONE:America/New_York
BEGIN:VEVENT
UID:match-5618019@streamradar.soccer
SUMMARY:Aurora vs Oriente Petrolero
DTSTAMP:20260421T104309Z
DTSTART;TZID=America/New_York:20260524T193000
DTEND;TZID=America/New_York:20260524T213000
DESCRIPTION:Где смотреть Aurora – Ориенте Петрол
 ро в турнире Боливия - Primera División Боливии. 
 Прямая трансляция и телепрограмма.\nhttps://s
 treamradar.soccer/ru/match/5618019/aurora-vs-oriente-petrolero/
URL;VALUE=URI:https://streamradar.soccer/ru/match/5618019/aurora-vs-oriente
 -petrolero/
STATUS:CONFIRMED
END:VEVENT
END:VCALENDAR
