BEGIN:VCALENDAR
VERSION:2.0
PRODID:-//StreamRadar//Match Calendar//EN
CALSCALE:GREGORIAN
METHOD:PUBLISH
X-WR-CALNAME:Independiente Petrolero vs Real Potosí
X-WR-TIMEZONE:America/New_York
BEGIN:VEVENT
UID:match-5618015@streamradar.soccer
SUMMARY:Independiente Petrolero vs Real Potosí
DTSTAMP:20260421T104935Z
DTSTART;TZID=America/New_York:20260523T171500
DTEND;TZID=America/New_York:20260523T191500
DESCRIPTION:Где смотреть Independiente Petrolero – Реал П
 отоси в турнире Боливия - Primera División Болив
 и. Прямая трансляция и телепрограмма.\nhttp
 s://streamradar.soccer/ru/match/5618015/independiente-petrolero-vs-real-pot
 osi/
URL;VALUE=URI:https://streamradar.soccer/ru/match/5618015/independiente-pet
 rolero-vs-real-potosi/
STATUS:CONFIRMED
END:VEVENT
END:VCALENDAR
