BEGIN:VCALENDAR
VERSION:2.0
PRODID:-//StreamRadar//Match Calendar//EN
CALSCALE:GREGORIAN
METHOD:PUBLISH
X-WR-CALNAME:San Antonio Bulo Bulo vs ABB
X-WR-TIMEZONE:America/New_York
BEGIN:VEVENT
UID:match-5618012@streamradar.soccer
SUMMARY:San Antonio Bulo Bulo vs ABB
DTSTAMP:20260421T122608Z
DTSTART;TZID=America/New_York:20260522T150000
DTEND;TZID=America/New_York:20260522T170000
LOCATION:Estadio Dr. Carlos Villegas
DESCRIPTION:Где смотреть San Antonio Bulo Bulo – ABB в тур
 нире Боливия - Primera División Боливии. Прямая т
 рансляция и телепрограмма.\nhttps://streamradar.socc
 er/ru/match/5618012/san-antonio-bulo-bulo-vs-abb/
URL;VALUE=URI:https://streamradar.soccer/ru/match/5618012/san-antonio-bulo-
 bulo-vs-abb/
STATUS:CONFIRMED
END:VEVENT
END:VCALENDAR
