BEGIN:VCALENDAR
VERSION:2.0
PRODID:-//StreamRadar//Match Calendar//EN
CALSCALE:GREGORIAN
METHOD:PUBLISH
X-WR-CALNAME:Deportivo La Guaira vs Independiente Rivadavia
X-WR-TIMEZONE:America/New_York
BEGIN:VEVENT
UID:match-5618009@streamradar.soccer
SUMMARY:Deportivo La Guaira vs Independiente Rivadavia
DTSTAMP:20260421T112456Z
DTSTART;TZID=America/New_York:20260521T180000
DTEND;TZID=America/New_York:20260521T200000
LOCATION:Estadio Olimpico de la UCV
DESCRIPTION:Где смотреть Депортиво Ла Гуайра 
  Индепендьенте Ривадавия в турнире Кубо
  Либертадорес. Прямая трансляция и телеп
 рограмма.\nhttps://streamradar.soccer/ru/match/5618009/deportivo-la
 -guaira-vs-independiente-rivadavia/
URL;VALUE=URI:https://streamradar.soccer/ru/match/5618009/deportivo-la-guai
 ra-vs-independiente-rivadavia/
STATUS:CONFIRMED
END:VEVENT
END:VCALENDAR
