BEGIN:VCALENDAR
VERSION:2.0
PRODID:-//StreamRadar//Match Calendar//EN
CALSCALE:GREGORIAN
METHOD:PUBLISH
X-WR-CALNAME:Junior vs Sporting Cristal
X-WR-TIMEZONE:America/New_York
BEGIN:VEVENT
UID:match-5618008@streamradar.soccer
SUMMARY:Junior vs Sporting Cristal
DTSTAMP:20260421T120359Z
DTSTART;TZID=America/New_York:20260520T220000
DTEND;TZID=America/New_York:20260521T000000
DESCRIPTION:Где смотреть Хуниор – Спортинг Кр
 сталь в турнире Кубок Либертадорес. Прям
 ая трансляция и телепрограмма.\nhttps://streamrad
 ar.soccer/ru/match/5618008/junior-vs-sporting-cristal/
URL;VALUE=URI:https://streamradar.soccer/ru/match/5618008/junior-vs-sportin
 g-cristal/
STATUS:CONFIRMED
END:VEVENT
END:VCALENDAR
