BEGIN:VCALENDAR
VERSION:2.0
PRODID:-//StreamRadar//Match Calendar//EN
CALSCALE:GREGORIAN
METHOD:PUBLISH
X-WR-CALNAME:Flamengo vs Estudiantes
X-WR-TIMEZONE:America/New_York
BEGIN:VEVENT
UID:match-5618004@streamradar.soccer
SUMMARY:Flamengo vs Estudiantes
DTSTAMP:20260421T104224Z
DTSTART;TZID=America/New_York:20260520T203000
DTEND;TZID=America/New_York:20260520T223000
DESCRIPTION:Где смотреть Фламенго – Эстудиант
 ес в турнире Кубок Либертадорес. Прямая т
 рансляция и телепрограмма.\nhttps://streamradar.socc
 er/ru/match/5618004/flamengo-vs-estudiantes/
URL;VALUE=URI:https://streamradar.soccer/ru/match/5618004/flamengo-vs-estud
 iantes/
STATUS:CONFIRMED
END:VEVENT
END:VCALENDAR
