BEGIN:VCALENDAR
VERSION:2.0
PRODID:-//StreamRadar//Match Calendar//EN
CALSCALE:GREGORIAN
METHOD:PUBLISH
X-WR-CALNAME:Nacional vs Universitario
X-WR-TIMEZONE:America/New_York
BEGIN:VEVENT
UID:match-5618003@streamradar.soccer
SUMMARY:Nacional vs Universitario
DTSTAMP:20260421T104320Z
DTSTART;TZID=America/New_York:20260520T180000
DTEND;TZID=America/New_York:20260520T200000
LOCATION:Gran Parque Central
DESCRIPTION:Где смотреть Насьональ – Универси
 тарио в турнире Кубок Либертадорес. Прям
 я трансляция и телепрограмма.\nhttps://streamrada
 r.soccer/ru/match/5618003/nacional-vs-universitario/
URL;VALUE=URI:https://streamradar.soccer/ru/match/5618003/nacional-vs-unive
 rsitario/
STATUS:CONFIRMED
END:VEVENT
END:VCALENDAR
