BEGIN:VCALENDAR
VERSION:2.0
PRODID:-//StreamRadar//Match Calendar//EN
CALSCALE:GREGORIAN
METHOD:PUBLISH
X-WR-CALNAME:América de Cali vs Tigre
X-WR-TIMEZONE:America/New_York
BEGIN:VEVENT
UID:match-5617985@streamradar.soccer
SUMMARY:América de Cali vs Tigre
DTSTAMP:20260421T112415Z
DTSTART;TZID=America/New_York:20260519T220000
DTEND;TZID=America/New_York:20260520T000000
DESCRIPTION:Где смотреть Америка де Кали – Тиг
 ре в турнире Кубок Судамерикана. Прямая т
 рансляция и телепрограмма.\nhttps://streamradar.socc
 er/ru/match/5617985/america-de-cali-vs-tigre/
URL;VALUE=URI:https://streamradar.soccer/ru/match/5617985/america-de-cali-v
 s-tigre/
STATUS:CONFIRMED
END:VEVENT
END:VCALENDAR
