BEGIN:VCALENDAR
VERSION:2.0
PRODID:-//StreamRadar//Match Calendar//EN
CALSCALE:GREGORIAN
METHOD:PUBLISH
X-WR-CALNAME:Atromitos vs Panserraikos
X-WR-TIMEZONE:America/New_York
BEGIN:VEVENT
UID:match-5617981@streamradar.soccer
SUMMARY:Atromitos vs Panserraikos
DTSTAMP:20260421T120420Z
DTSTART;TZID=America/New_York:20260521T120000
DTEND;TZID=America/New_York:20260521T140000
LOCATION:Peristeri Stadium
DESCRIPTION:Где смотреть Атромитос – Пансерра
 икос в турнире Греция - Суперлига Греции. 
 Прямая трансляция и телепрограмма.\nhttps://s
 treamradar.soccer/ru/match/5617981/atromitos-vs-panserraikos/
URL;VALUE=URI:https://streamradar.soccer/ru/match/5617981/atromitos-vs-pans
 erraikos/
STATUS:CONFIRMED
END:VEVENT
END:VCALENDAR
