BEGIN:VCALENDAR
VERSION:2.0
PRODID:-//StreamRadar//Match Calendar//EN
CALSCALE:GREGORIAN
METHOD:PUBLISH
X-WR-CALNAME:Armenia vs Moldova
X-WR-TIMEZONE:America/New_York
BEGIN:VEVENT
UID:match-5617977@streamradar.soccer
SUMMARY:Armenia vs Moldova
DTSTAMP:20260422T012252Z
DTSTART;TZID=America/New_York:20260609T120000
DTEND;TZID=America/New_York:20260609T140000
DESCRIPTION:Где смотреть Армения – Молдова в т
 урнире Товарищеский матч. Прямая трансля
 ция и телепрограмма.\nhttps://streamradar.soccer/ru/match/
 5617977/armenia-vs-moldova/
URL;VALUE=URI:https://streamradar.soccer/ru/match/5617977/armenia-vs-moldov
 a/
STATUS:CONFIRMED
END:VEVENT
END:VCALENDAR
