BEGIN:VCALENDAR
VERSION:2.0
PRODID:-//StreamRadar//Match Calendar//EN
CALSCALE:GREGORIAN
METHOD:PUBLISH
X-WR-CALNAME:Peru vs Spain
X-WR-TIMEZONE:America/New_York
BEGIN:VEVENT
UID:match-5617976@streamradar.soccer
SUMMARY:Peru vs Spain
DTSTAMP:20260422T015536Z
DTSTART;TZID=America/New_York:20260608T160000
DTEND;TZID=America/New_York:20260608T180000
DESCRIPTION:Где смотреть Перу – Испания в турн
 ире Товарищеский матч. Прямая трансляция
  и телепрограмма.\nhttps://streamradar.soccer/ru/match/561797
 6/peru-vs-spain/
URL;VALUE=URI:https://streamradar.soccer/ru/match/5617976/peru-vs-spain/
STATUS:CONFIRMED
END:VEVENT
END:VCALENDAR
