BEGIN:VCALENDAR
VERSION:2.0
PRODID:-//StreamRadar//Match Calendar//EN
CALSCALE:GREGORIAN
METHOD:PUBLISH
X-WR-CALNAME:Argentina vs Honduras
X-WR-TIMEZONE:America/New_York
BEGIN:VEVENT
UID:match-5617973@streamradar.soccer
SUMMARY:Argentina vs Honduras
DTSTAMP:20260422T045625Z
DTSTART;TZID=America/New_York:20260606T200000
DTEND;TZID=America/New_York:20260606T220000
LOCATION:Kyle Field
DESCRIPTION:Где смотреть Аргентина – Гондурас
  в турнире Товарищеский матч. Прямая тран
 сляция и телепрограмма.\nhttps://streamradar.soccer/ru/
 match/5617973/argentina-vs-honduras/
URL;VALUE=URI:https://streamradar.soccer/ru/match/5617973/argentina-vs-hond
 uras/
STATUS:CONFIRMED
END:VEVENT
END:VCALENDAR
