BEGIN:VCALENDAR
VERSION:2.0
PRODID:-//StreamRadar//Match Calendar//EN
CALSCALE:GREGORIAN
METHOD:PUBLISH
X-WR-CALNAME:Poland vs Nigeria
X-WR-TIMEZONE:America/New_York
BEGIN:VEVENT
UID:match-5617965@streamradar.soccer
SUMMARY:Poland vs Nigeria
DTSTAMP:20260422T005930Z
DTSTART;TZID=America/New_York:20260603T144500
DTEND;TZID=America/New_York:20260603T164500
LOCATION:PGE Narodowy
DESCRIPTION:Где смотреть Польша – Нигерия в ту
 рнире Товарищеский матч. Прямая трансляц
 ия и телепрограмма.\nhttps://streamradar.soccer/ru/match/56
 17965/poland-vs-nigeria/
URL;VALUE=URI:https://streamradar.soccer/ru/match/5617965/poland-vs-nigeria
 /
STATUS:CONFIRMED
END:VEVENT
END:VCALENDAR
