BEGIN:VCALENDAR
VERSION:2.0
PRODID:-//StreamRadar//Match Calendar//EN
CALSCALE:GREGORIAN
METHOD:PUBLISH
X-WR-CALNAME:Ecuador vs Saudi Arabia
X-WR-TIMEZONE:America/New_York
BEGIN:VEVENT
UID:match-5617962@streamradar.soccer
SUMMARY:Ecuador vs Saudi Arabia
DTSTAMP:20260422T012257Z
DTSTART;TZID=America/New_York:20260530T193000
DTEND;TZID=America/New_York:20260530T213000
LOCATION:Sports Illustrated Stadium
DESCRIPTION:Где смотреть Эквадор – Саудовская
  Аравия в турнире Товарищеский матч. Прям
 ая трансляция и телепрограмма.\nhttps://streamrad
 ar.soccer/ru/match/5617962/ecuador-vs-saudi-arabia/
URL;VALUE=URI:https://streamradar.soccer/ru/match/5617962/ecuador-vs-saudi-
 arabia/
STATUS:CONFIRMED
END:VEVENT
END:VCALENDAR
