BEGIN:VCALENDAR
VERSION:2.0
PRODID:-//StreamRadar//Match Calendar//EN
CALSCALE:GREGORIAN
METHOD:PUBLISH
X-WR-CALNAME:Bosnia and Herzegovina vs North Macedonia
X-WR-TIMEZONE:America/New_York
BEGIN:VEVENT
UID:match-5617960@streamradar.soccer
SUMMARY:Bosnia and Herzegovina vs North Macedonia
DTSTAMP:20260421T102117Z
DTSTART;TZID=America/New_York:20260529T120000
DTEND;TZID=America/New_York:20260529T140000
DESCRIPTION:Где смотреть Босния и Герцеговина 
 – Северная Македония в турнире Товарище
 кий матч. Прямая трансляция и телепрогра
 мма.\nhttps://streamradar.soccer/ru/match/5617960/bosnia-and-herzegovina
 -vs-north-macedonia/
URL;VALUE=URI:https://streamradar.soccer/ru/match/5617960/bosnia-and-herzeg
 ovina-vs-north-macedonia/
STATUS:CONFIRMED
END:VEVENT
END:VCALENDAR
