BEGIN:VCALENDAR
VERSION:2.0
PRODID:-//StreamRadar//Match Calendar//EN
CALSCALE:GREGORIAN
METHOD:PUBLISH
X-WR-CALNAME:Farense U23 vs Estoril U23
X-WR-TIMEZONE:America/New_York
BEGIN:VEVENT
UID:match-5617638@streamradar.soccer
SUMMARY:Farense U23 vs Estoril U23
DTSTAMP:20260420T120943Z
DTSTART;TZID=America/New_York:20260421T060000
DTEND;TZID=America/New_York:20260421T080000
LOCATION:Estádio Do Algarve (Almancil)
DESCRIPTION:Где смотреть Farense до 23 – Estoril до 23 в 
 турнире Португалия - Liga Revelação. Прямая тра
 нсляция и телепрограмма.\nhttps://streamradar.soccer/r
 u/match/5617638/farense-u23-vs-estoril-u23/
URL;VALUE=URI:https://streamradar.soccer/ru/match/5617638/farense-u23-vs-es
 toril-u23/
STATUS:CONFIRMED
END:VEVENT
END:VCALENDAR
