BEGIN:VCALENDAR
VERSION:2.0
PRODID:-//StreamRadar//Match Calendar//EN
CALSCALE:GREGORIAN
METHOD:PUBLISH
X-WR-CALNAME:Mogi Mirim vs Matonense
X-WR-TIMEZONE:America/New_York
BEGIN:VEVENT
UID:match-5617609@streamradar.soccer
SUMMARY:Mogi Mirim vs Matonense
DTSTAMP:20260420T133300Z
DTSTART;TZID=America/New_York:20260516T140000
DTEND;TZID=America/New_York:20260516T160000
DESCRIPTION:Где смотреть Mogi Mirim – Matonense в турни
 е Бразилия - Campeonato Paulista Serie B. Прямая транс
 ляция и телепрограмма.\nhttps://streamradar.soccer/ru/ma
 tch/5617609/mogi-mirim-vs-matonense/
URL;VALUE=URI:https://streamradar.soccer/ru/match/5617609/mogi-mirim-vs-mat
 onense/
STATUS:CONFIRMED
END:VEVENT
END:VCALENDAR
