BEGIN:VCALENDAR
VERSION:2.0
PRODID:-//StreamRadar//Match Calendar//EN
CALSCALE:GREGORIAN
METHOD:PUBLISH
X-WR-CALNAME:Tupa vs Riopretano
X-WR-TIMEZONE:America/New_York
BEGIN:VEVENT
UID:match-5617604@streamradar.soccer
SUMMARY:Tupa vs Riopretano
DTSTAMP:20260420T165048Z
DTSTART;TZID=America/New_York:20260510T140000
DTEND;TZID=America/New_York:20260510T160000
DESCRIPTION:Где смотреть Tupa – Riopretano в турнире 
 разилия - Campeonato Paulista Serie B. Прямая трансля
 ия и телепрограмма.\nhttps://streamradar.soccer/ru/match/5
 617604/tupa-vs-riopretano/
URL;VALUE=URI:https://streamradar.soccer/ru/match/5617604/tupa-vs-riopretan
 o/
STATUS:CONFIRMED
END:VEVENT
END:VCALENDAR
