BEGIN:VCALENDAR
VERSION:2.0
PRODID:-//StreamRadar//Match Calendar//EN
CALSCALE:GREGORIAN
METHOD:PUBLISH
X-WR-CALNAME:Paulinia Fu vs Flamengo Sp
X-WR-TIMEZONE:America/New_York
BEGIN:VEVENT
UID:match-5617603@streamradar.soccer
SUMMARY:Paulinia Fu vs Flamengo Sp
DTSTAMP:20260420T165256Z
DTSTART;TZID=America/New_York:20260510T140000
DTEND;TZID=America/New_York:20260510T160000
DESCRIPTION:Где смотреть Paulinia Fu – Flamengo Sp в турн
 ире Бразилия - Campeonato Paulista Serie B. Прямая тра
 сляция и телепрограмма.\nhttps://streamradar.soccer/ru
 /match/5617603/paulinia-fu-vs-flamengo-sp/
URL;VALUE=URI:https://streamradar.soccer/ru/match/5617603/paulinia-fu-vs-fl
 amengo-sp/
STATUS:CONFIRMED
END:VEVENT
END:VCALENDAR
