BEGIN:VCALENDAR
VERSION:2.0
PRODID:-//StreamRadar//Match Calendar//EN
CALSCALE:GREGORIAN
METHOD:PUBLISH
X-WR-CALNAME:Audax-sp vs Paulinense
X-WR-TIMEZONE:America/New_York
BEGIN:VEVENT
UID:match-5617598@streamradar.soccer
SUMMARY:Audax-sp vs Paulinense
DTSTAMP:20260420T170856Z
DTSTART;TZID=America/New_York:20260510T090000
DTEND;TZID=America/New_York:20260510T110000
DESCRIPTION:Где смотреть Audax-sp – Paulinense в турнир
 е Бразилия - Campeonato Paulista Serie B. Прямая транс
 яция и телепрограмма.\nhttps://streamradar.soccer/ru/mat
 ch/5617598/audax-sp-vs-paulinense/
URL;VALUE=URI:https://streamradar.soccer/ru/match/5617598/audax-sp-vs-pauli
 nense/
STATUS:CONFIRMED
END:VEVENT
END:VCALENDAR
