BEGIN:VCALENDAR
VERSION:2.0
PRODID:-//StreamRadar//Match Calendar//EN
CALSCALE:GREGORIAN
METHOD:PUBLISH
X-WR-CALNAME:Maua vs Itaqua
X-WR-TIMEZONE:America/New_York
BEGIN:VEVENT
UID:match-5617597@streamradar.soccer
SUMMARY:Maua vs Itaqua
DTSTAMP:20260420T171815Z
DTSTART;TZID=America/New_York:20260509T140000
DTEND;TZID=America/New_York:20260509T160000
DESCRIPTION:Где смотреть Maua – Itaqua в турнире Бр
 зилия - Campeonato Paulista Serie B. Прямая трансляци
  и телепрограмма.\nhttps://streamradar.soccer/ru/match/56175
 97/maua-vs-itaqua/
URL;VALUE=URI:https://streamradar.soccer/ru/match/5617597/maua-vs-itaqua/
STATUS:CONFIRMED
END:VEVENT
END:VCALENDAR
