BEGIN:VCALENDAR
VERSION:2.0
PRODID:-//StreamRadar//Match Calendar//EN
CALSCALE:GREGORIAN
METHOD:PUBLISH
X-WR-CALNAME:Matonense vs Catanduvense
X-WR-TIMEZONE:America/New_York
BEGIN:VEVENT
UID:match-5617596@streamradar.soccer
SUMMARY:Matonense vs Catanduvense
DTSTAMP:20260420T133320Z
DTSTART;TZID=America/New_York:20260509T140000
DTEND;TZID=America/New_York:20260509T160000
DESCRIPTION:Где смотреть Matonense – Catanduvense в турн
 ре Бразилия - Campeonato Paulista Serie B. Прямая тран
 сляция и телепрограмма.\nhttps://streamradar.soccer/ru/
 match/5617596/matonense-vs-catanduvense/
URL;VALUE=URI:https://streamradar.soccer/ru/match/5617596/matonense-vs-cata
 nduvense/
STATUS:CONFIRMED
END:VEVENT
END:VCALENDAR
