BEGIN:VCALENDAR
VERSION:2.0
PRODID:-//StreamRadar//Match Calendar//EN
CALSCALE:GREGORIAN
METHOD:PUBLISH
X-WR-CALNAME:Paulinia Fu vs Guarulhos
X-WR-TIMEZONE:America/New_York
BEGIN:VEVENT
UID:match-5617591@streamradar.soccer
SUMMARY:Paulinia Fu vs Guarulhos
DTSTAMP:20260420T165256Z
DTSTART;TZID=America/New_York:20260503T140000
DTEND;TZID=America/New_York:20260503T160000
DESCRIPTION:Где смотреть Paulinia Fu – Guarulhos в турни
 ре Бразилия - Campeonato Paulista Serie B. Прямая тран
 ляция и телепрограмма.\nhttps://streamradar.soccer/ru/m
 atch/5617591/paulinia-fu-vs-guarulhos/
URL;VALUE=URI:https://streamradar.soccer/ru/match/5617591/paulinia-fu-vs-gu
 arulhos/
STATUS:CONFIRMED
END:VEVENT
END:VCALENDAR
