BEGIN:VCALENDAR
VERSION:2.0
PRODID:-//StreamRadar//Match Calendar//EN
CALSCALE:GREGORIAN
METHOD:PUBLISH
X-WR-CALNAME:Santacruzense vs Independente SP
X-WR-TIMEZONE:America/New_York
BEGIN:VEVENT
UID:match-5617589@streamradar.soccer
SUMMARY:Santacruzense vs Independente SP
DTSTAMP:20260420T165017Z
DTSTART;TZID=America/New_York:20260503T090000
DTEND;TZID=America/New_York:20260503T110000
DESCRIPTION:Где смотреть Santacruzense – Independente SP в т
 урнире Бразилия - Campeonato Paulista Serie B. Прямая 
 рансляция и телепрограмма.\nhttps://streamradar.soc
 cer/ru/match/5617589/santacruzense-vs-independente-sp/
URL;VALUE=URI:https://streamradar.soccer/ru/match/5617589/santacruzense-vs-
 independente-sp/
STATUS:CONFIRMED
END:VEVENT
END:VCALENDAR
