BEGIN:VCALENDAR
VERSION:2.0
PRODID:-//StreamRadar//Match Calendar//EN
CALSCALE:GREGORIAN
METHOD:PUBLISH
X-WR-CALNAME:Mogi Mirim vs Catanduvense
X-WR-TIMEZONE:America/New_York
BEGIN:VEVENT
UID:match-5617584@streamradar.soccer
SUMMARY:Mogi Mirim vs Catanduvense
DTSTAMP:20260420T133815Z
DTSTART;TZID=America/New_York:20260502T140000
DTEND;TZID=America/New_York:20260502T160000
DESCRIPTION:Где смотреть Mogi Mirim – Catanduvense в турн
 ире Бразилия - Campeonato Paulista Serie B. Прямая тра
 сляция и телепрограмма.\nhttps://streamradar.soccer/ru
 /match/5617584/mogi-mirim-vs-catanduvense/
URL;VALUE=URI:https://streamradar.soccer/ru/match/5617584/mogi-mirim-vs-cat
 anduvense/
STATUS:CONFIRMED
END:VEVENT
END:VCALENDAR
