BEGIN:VCALENDAR
VERSION:2.0
PRODID:-//StreamRadar//Match Calendar//EN
CALSCALE:GREGORIAN
METHOD:PUBLISH
X-WR-CALNAME:Mauaense vs Barcelona Sp
X-WR-TIMEZONE:America/New_York
BEGIN:VEVENT
UID:match-5617583@streamradar.soccer
SUMMARY:Mauaense vs Barcelona Sp
DTSTAMP:20260420T165011Z
DTSTART;TZID=America/New_York:20260502T140000
DTEND;TZID=America/New_York:20260502T160000
DESCRIPTION:Где смотреть Mauaense – Barcelona Sp в турни
 ре Бразилия - Campeonato Paulista Serie B. Прямая тран
 ляция и телепрограмма.\nhttps://streamradar.soccer/ru/m
 atch/5617583/mauaense-vs-barcelona-sp/
URL;VALUE=URI:https://streamradar.soccer/ru/match/5617583/mauaense-vs-barce
 lona-sp/
STATUS:CONFIRMED
END:VEVENT
END:VCALENDAR
