BEGIN:VCALENDAR
VERSION:2.0
PRODID:-//StreamRadar//Match Calendar//EN
CALSCALE:GREGORIAN
METHOD:PUBLISH
X-WR-CALNAME:Flamengo SP vs Guarulhos
X-WR-TIMEZONE:America/New_York
BEGIN:VEVENT
UID:match-5617571@streamradar.soccer
SUMMARY:Flamengo SP vs Guarulhos
DTSTAMP:20260420T165124Z
DTSTART;TZID=America/New_York:20260425T140000
DTEND;TZID=America/New_York:20260425T160000
LOCATION:Estádio Municipal Antônio Soares de Oliveira (Guarulhos\, São P
 aulo)
DESCRIPTION:Где смотреть Flamengo SP – Guarulhos в турни
 ре Бразилия - Campeonato Paulista Serie B. Прямая тран
 ляция и телепрограмма.\nhttps://streamradar.soccer/ru/m
 atch/5617571/flamengo-sp-vs-guarulhos/
URL;VALUE=URI:https://streamradar.soccer/ru/match/5617571/flamengo-sp-vs-gu
 arulhos/
STATUS:CONFIRMED
END:VEVENT
END:VCALENDAR
