BEGIN:VCALENDAR
VERSION:2.0
PRODID:-//StreamRadar//Match Calendar//EN
CALSCALE:GREGORIAN
METHOD:PUBLISH
X-WR-CALNAME:Valadares Gaia Feminino vs Damaiense Feminino
X-WR-TIMEZONE:America/New_York
BEGIN:VEVENT
UID:match-5617543@streamradar.soccer
SUMMARY:Valadares Gaia Feminino vs Damaiense Feminino
DTSTAMP:20260420T120942Z
DTSTART;TZID=America/New_York:20260425T060000
DTEND;TZID=America/New_York:20260425T080000
LOCATION:Estadio Dr. Jorge Sampaio
DESCRIPTION:Где смотреть Valadares Gaia Feminino – Damaiense F
 eminino в турнире Португалия - Campeonato Nacional Femini
 no. Прямая трансляция и телепрограмма.\nhttps
 ://streamradar.soccer/ru/match/5617543/valadares-gaia-feminino-vs-damaiense
 -feminino/
URL;VALUE=URI:https://streamradar.soccer/ru/match/5617543/valadares-gaia-fe
 minino-vs-damaiense-feminino/
STATUS:CONFIRMED
END:VEVENT
END:VCALENDAR
